{
 "currentVersion": 10.61,
 "serviceDescription": "External/ESRICanadaSketchImagery",
 "name": "External/ESRICanadaSketchImagery",
 "description": "",
 "extent": {
  "xmin": 2423099.933036059,
  "ymin": 659200.1176982783,
  "xmax": 2539299.933036059,
  "ymax": 770490.1176982783,
  "spatialReference": {
   "wkt": "PROJCS[\"Ada_County_NAD_83_TM\",GEOGCS[\"GCS_North_American_1983\",DATUM[\"D_North_American_1983\",SPHEROID[\"GRS_1980\",6378137.0,298.257222101]],PRIMEM[\"Greenwich\",0.0],UNIT[\"Degree\",0.0174532925199433]],PROJECTION[\"Transverse_Mercator\"],PARAMETER[\"False_Easting\",2625138.996430666],PARAMETER[\"False_Northing\",0.0],PARAMETER[\"Central_Meridian\",-115.75],PARAMETER[\"Scale_Factor\",1.00011328],PARAMETER[\"Latitude_Of_Origin\",41.66666666666666],UNIT[\"Foot_US\",0.3048006096012192]]"
  }
 },
 "initialExtent": {
  "xmin": 2423099.933036059,
  "ymin": 659200.1176982783,
  "xmax": 2539299.933036059,
  "ymax": 770490.1176982783,
  "spatialReference": {
   "wkt": "PROJCS[\"Ada_County_NAD_83_TM\",GEOGCS[\"GCS_North_American_1983\",DATUM[\"D_North_American_1983\",SPHEROID[\"GRS_1980\",6378137.0,298.257222101]],PRIMEM[\"Greenwich\",0.0],UNIT[\"Degree\",0.0174532925199433]],PROJECTION[\"Transverse_Mercator\"],PARAMETER[\"False_Easting\",2625138.996430666],PARAMETER[\"False_Northing\",0.0],PARAMETER[\"Central_Meridian\",-115.75],PARAMETER[\"Scale_Factor\",1.00011328],PARAMETER[\"Latitude_Of_Origin\",41.66666666666666],UNIT[\"Foot_US\",0.3048006096012192]]"
  }
 },
 "fullExtent": {
  "xmin": 2423099.933036059,
  "ymin": 659200.1176982783,
  "xmax": 2539299.933036059,
  "ymax": 770490.1176982783,
  "spatialReference": {
   "wkt": "PROJCS[\"Ada_County_NAD_83_TM\",GEOGCS[\"GCS_North_American_1983\",DATUM[\"D_North_American_1983\",SPHEROID[\"GRS_1980\",6378137.0,298.257222101]],PRIMEM[\"Greenwich\",0.0],UNIT[\"Degree\",0.0174532925199433]],PROJECTION[\"Transverse_Mercator\"],PARAMETER[\"False_Easting\",2625138.996430666],PARAMETER[\"False_Northing\",0.0],PARAMETER[\"Central_Meridian\",-115.75],PARAMETER[\"Scale_Factor\",1.00011328],PARAMETER[\"Latitude_Of_Origin\",41.66666666666666],UNIT[\"Foot_US\",0.3048006096012192]]"
  }
 },
 "pixelSizeX": 0.25,
 "pixelSizeY": 0.25,
 "bandCount": 3,
 "pixelType": "U8",
 "minPixelSize": 0,
 "maxPixelSize": 0,
 "copyrightText": "",
 "serviceDataType": "esriImageServiceDataTypeRGB",
 "minValues": [
  0,
  0,
  0
 ],
 "maxValues": [
  255,
  255,
  255
 ],
 "meanValues": [
  114.99437445077636,
  116.26337134604094,
  110.56115686030358
 ],
 "stdvValues": [
  53.166730769947584,
  48.8803092029281,
  48.42459763855429
 ],
 "objectIdField": "",
 "fields": [],
 "capabilities": "Image,Metadata,Mensuration",
 "defaultMosaicMethod": "Center",
 "allowedMosaicMethods": "",
 "sortField": "",
 "sortValue": null,
 "mosaicOperator": "First",
 "defaultCompressionQuality": 75,
 "defaultResamplingMethod": "Bilinear",
 "maxImageHeight": 4100,
 "maxImageWidth": 15000,
 "allowRasterFunction": true,
 "rasterFunctionInfos": [
  {
   "name": "None",
   "description": "",
   "help": ""
  }
 ],
 "rasterTypeInfos": [
  {
   "name": "Raster Dataset",
   "description": "Supports all ArcGIS Raster Datasets",
   "help": ""
  }
 ],
 "mensurationCapabilities": "Basic",
 "hasHistograms": true,
 "hasColormap": false,
 "hasRasterAttributeTable": false,
 "minScale": 0,
 "maxScale": 0,
 "exportTilesAllowed": false,
 "hasMultidimensions": false,
 "supportsStatistics": false,
 "supportsAdvancedQueries": false,
 "editFieldsInfo": null,
 "ownershipBasedAccessControlForRasters": null,
 "allowComputeTiePoints": false,
 "useStandardizedQueries": true,
 "advancedQueryCapabilities": {
  "useStandardizedQueries": true,
  "supportsStatistics": false,
  "supportsOrderBy": false,
  "supportsDistinct": false,
  "supportsPagination": false
 },
 "spatialReference": {
  "wkt": "PROJCS[\"Ada_County_NAD_83_TM\",GEOGCS[\"GCS_North_American_1983\",DATUM[\"D_North_American_1983\",SPHEROID[\"GRS_1980\",6378137.0,298.257222101]],PRIMEM[\"Greenwich\",0.0],UNIT[\"Degree\",0.0174532925199433]],PROJECTION[\"Transverse_Mercator\"],PARAMETER[\"False_Easting\",2625138.996430666],PARAMETER[\"False_Northing\",0.0],PARAMETER[\"Central_Meridian\",-115.75],PARAMETER[\"Scale_Factor\",1.00011328],PARAMETER[\"Latitude_Of_Origin\",41.66666666666666],UNIT[\"Foot_US\",0.3048006096012192]]"
 }
}
